BEGIN:VCALENDAR
VERSION:2.0
PRODID:-//University of Batna 1 - ECPv6.15.17//NONSGML v1.0//EN
CALSCALE:GREGORIAN
METHOD:PUBLISH
X-ORIGINAL-URL:https://siteng.univ-batna.dz
X-WR-CALDESC:Events for University of Batna 1
REFRESH-INTERVAL;VALUE=DURATION:PT1H
X-Robots-Tag:noindex
X-PUBLISHED-TTL:PT1H
BEGIN:VTIMEZONE
TZID:UTC
BEGIN:STANDARD
TZOFFSETFROM:+0000
TZOFFSETTO:+0000
TZNAME:UTC
DTSTART:20220101T000000
END:STANDARD
END:VTIMEZONE
BEGIN:VEVENT
DTSTART;VALUE=DATE:20231016
DTEND;VALUE=DATE:20231018
DTSTAMP:20260425T230248
CREATED:20230723T104613Z
LAST-MODIFIED:20231015T083011Z
UID:4447-1697414400-1697587199@siteng.univ-batna.dz
SUMMARY:Séminaire National sur la Nutrition et la Valorisation des Bioressources
DESCRIPTION:Les problèmes nutritionnels se divisent\, en gros\, en deux catégories : ceux qui résultent d’un apport inférieur aux besoins nutritionnels et ceux qui résultent de l’apport excessif ou déséquilibré d’un aliment ou d’une composante particulière du régime alimentaire. Les liens entre nutrition et santé sont de mieux en mieux connus\, et le risque de développer de nombreuses maladies peut être réduit en suivant les recommandations nutritionnelles fondées sur de multiples travaux de recherche. Des collaborations entre recherche expérimentale\, clinique et épidémiologique permettent d’étudier\, l’impact de l’apport de certains composés nutritionnels sur des fonctions physiologiques et physiopathologiques\, l’impact de la consommation de certains nutriments ou de l’activité physique sur la santé de personnes malades et de suivre sur le long terme la relation entre comportements alimentaires et état de santé de la population. Les sujets les plus importants de cet évènement sont : La relation entre la nutrition et la santé\, les conséquences d’un régime alimentaire non équilibré\, risques sanitaires liés aux différentes pratiques alimentaires\, influence des facteurs anti nutritionnels et des techniques culinaires sur la biodisponibilité des nutriments\, activités biologiques des substances naturelles\, les bonnes pratiques d’hygiène et de fabrication\, toxicité\, valorisation et qualité\, etc. \n Dépliant SNNVB-2023 – \n  Lien de formulaire d’inscription– \n– Modèle de résumé SNNVB-2023\n\n\n\nHébergement\n\n\n\n\nHÔTELS\nPETIT DÉJEUNER\nCHAMBRE SINGLE\nCHAMBRE DOUBLE\nCHAMBRE TRIPLE\nCONTACT\nLIEN\n\n\nHÔTEL CH CHAKER\nINCLUS\n7000 DA\n8500 DA\n\n033. 85. 30. 67\nhttps://goo.gl/maps/cmLi6GyHAQNFSH5r9\n\n\nHÔTEL TIMGAD\nINCLUS\n6000 DA\n7000 DA\n\n0772. 33. 22. 08\nhttps://goo.gl/maps/uP3VjorSAD4Qtfub7\n\n\nHÔTEL HAZEM\nINCLUS\n4000 DA\n5000 DA\n\n0772. 33. 22. 08\nhttps://goo.gl/maps/uP3VjorSAD4Qtfub7\n\n\nHÔTEL EL HAYAT\nINCLUS\n3000 DA\n4000 DA\n4500 DA\n033.80.46.01\nhttps://goo.gl/maps/VYLg8u6kkq1Zwxnq7\n\n\nEL MAHDI HÔTEL RÉSIDENCE\nINCLUS\n3000 DA\n3500 DA\n4500 DA\n033.81.39.33\nhttps://goo.gl/maps/3Eyggyb8r9MJ9eVs7\n\n\n\n\n\nNOTE : LES TARIFS MENTIONNÉS DANS LE TABLEAU CI-DESSUS\, CE SONT DES TARIFS PRÉFÉRENTIELS\, IL VOUS SUFFIT DE VOUS PRÉSENTER AU NOM DU SÉMINAIRE POUR POUVOIR BÉNÉFICIER DE CES TARIFS.
URL:https://siteng.univ-batna.dz/event/seminaire-national-sur-la-nutrition-et-la-valorisation-des-bioressources/
CATEGORIES:conference
ATTACH;FMTTYPE=image/jpeg:https://siteng.univ-batna.dz/wp-content/uploads/2023/07/snnvb2023.jpg
END:VEVENT
BEGIN:VEVENT
DTSTART;VALUE=DATE:20231003
DTEND;VALUE=DATE:20231004
DTSTAMP:20260425T230248
CREATED:20230621T144613Z
LAST-MODIFIED:20230820T085329Z
UID:4220-1696291200-1696377599@siteng.univ-batna.dz
SUMMARY:الحديث وعلومه في الجزائر من الرصد التاريخي إلى التفعيل الحضاري
DESCRIPTION:إن الناظر في الحياة العلمية بالجزائر في المراحل التاريخية المختلفة إلى عصرنا هذا، يلحظ مدى عناية أبنائها بالعلوم في شتّى الميادين، ومن بينها العلوم الشرعية بجميع فروعها، حيث نبغوا في فنون كثيرة وشاركوا فيها، في مقدمتها الحديث وعلومه رواية ودراية. وقد برز منهم نُخبة من أعلام أفذاذ وباحثين نقاد ينتمون إلى مؤسسات و حواضر علمية لها امتدادات جغرافية في أنحاء الوطن. \nوقد خدموا ميراث النبوة، فسبروا أغواره واستكشفوا مكنوناته، واستجلوا ،دلالاته، قصد تفعيلها لتعميق الوعي وتَمَثل ما فيها من قيم وتوجيهات انتجاعا لتحقيق النهوض الحضاري والارتقاء الاجتماعي. \nفخلفوا نتاجا علميا متنوعا يتراوح بين المطبوع والمخطوط، خلّد اسم الجزائر، وفتح الباب أمام الباحثين المتخصصين، وإن تفاوت هؤلاء الأعلام في العطاء بين مقل ومكثر لأسباب كثيرة. \nوالمنعم النظر في هذا الميراث يلحظ تنوع التأليف في الاتجاهات والتصنيف في المناهج والقواعد التي بني عليها والضوابط المؤطرة له، وإن أخذ صورا عدة كالتصنيف في علوم الحديث وفنونه وحفظ المتون الحديثية، وتدريس هذه المتون ونشرها بين الناس، فضلا عن استخراج خبيء تلك الكتب بشرحها وبيان غريبها واستنباط ما فيها من الحكم والأحكام، لتقريب ما استغلق منها للأفهام وتكثيف الدلالة ترشيدا للوعي والسلوك. \nولايزال الاهتبال بهذا العلم وفنونه عند المعاصرين من العلماء والباحثين بالجامعات الجزائرية، والمراكز البحثية وغيرها. وهو ما يتبدّى في الدراسات الأكاديمية والكراسي العلمية المتخصصة، والمناهج التعليمة، سواء على مستوى قطاع التعليم العالي أم الأطوار التربوية والتعليمية الثلاثة التابعة لوزارة التربية والتعليم أم المناهج المعتمدة في الشؤون الدينية. \nونظرا للتطور المذهل في التقنية والذي فرض نفسه بقوة، فقد حاول بعض أهل الاختصاص والمهتمون بالسنة النبوية الاستفادة من تكنولوجيا الإعلام والاتصال في ترقية علوم الحديث وتقريبها للجامعة والمجتمع بآليات ووسائل تفاعلية متنوعة. \nPDF \nseminaire3oct2023-1 \n 
URL:https://siteng.univ-batna.dz/event/hadith-and-its-sciences-in-algeria/
CATEGORIES:conference
ATTACH;FMTTYPE=image/jpeg:https://siteng.univ-batna.dz/wp-content/uploads/2023/06/seminaire3oct2023.jpg
END:VEVENT
BEGIN:VEVENT
DTSTART;TZID=UTC:20230517T080000
DTEND;TZID=UTC:20230518T173000
DTSTAMP:20260425T230248
CREATED:20230212T091214Z
LAST-MODIFIED:20230212T091953Z
UID:1992-1684310400-1684431000@siteng.univ-batna.dz
SUMMARY:The 2nd Workshop on Matter and Radiation WMR2023
DESCRIPTION:The 2nd Workshop on Matter and Radiation WMR2023 is set to take place at the University of Batna 1 during the period of May 17-18th 2023 \nhttps://seminaires.univ-batna.dz/wmr23 \n\nThis Workshop will cover topics related to Physics of Matter and Radiation at the atomic and nuclear scales as well as those related to the radiation-matter interaction. \nThese topics\, which are of current relevance and great impact on industrial branches\, are mainly subject to research conducted at the Physics Department at the University of Batna 1. \nWe aim to bring together experts on the field in a positively convivial environment with fruitful discussions in hopes of enhancing already existing research collaborations among \nresearchers and research laboratories and establishing new ones. \nWe intend to involve young researchers to the fullest extent in scientific debates in order to train them. For this\, and as an act of encouragement\, a Best Poster/communication \noral-competition will be held throughout the course of this Workshop where the Best Poster/Oral will be awarded at the Closing Ceremony of the event. \n\n 
URL:https://siteng.univ-batna.dz/event/the-2nd-workshop-on-matter-and-radiation-wmr2023/
CATEGORIES:conference
ATTACH;FMTTYPE=image/jpeg:https://siteng.univ-batna.dz/wp-content/uploads/2023/02/wmr2023-banner.jpg
END:VEVENT
BEGIN:VEVENT
DTSTART;TZID=UTC:20230517T080000
DTEND;TZID=UTC:20230518T170000
DTSTAMP:20260425T230248
CREATED:20230411T102408Z
LAST-MODIFIED:20230515T133221Z
UID:2590-1684310400-1684429200@siteng.univ-batna.dz
SUMMARY:رقمنة التراث الثقافي واقتصاد المعرفة
DESCRIPTION:بمناسبة يوم المتحف العالمي واختتام فعاليات شهر التراث ، تنظم جامعة باتنة 1 بالشراكة مع مديرية الثقافة والفنون ومديرية السياحة و OGEBC – ولاية باتنة \nيومي 17-18 ماي 2023 ملتقى بقاعة المحاضرات الكبرى \nالمطوية \n \n 
URL:https://siteng.univ-batna.dz/event/%d8%b1%d9%82%d9%85%d9%86%d8%a9-%d8%a7%d9%84%d8%aa%d8%b1%d8%a7%d8%ab-%d8%a7%d9%84%d8%ab%d9%82%d8%a7%d9%81%d9%8a-%d9%88%d8%a7%d9%82%d8%aa%d8%b5%d8%a7%d8%af-%d8%a7%d9%84%d9%85%d8%b9%d8%b1%d9%81%d8%a9/
CATEGORIES:conference
ATTACH;FMTTYPE=image/jpeg:https://siteng.univ-batna.dz/wp-content/uploads/2023/04/digitization-of-cultural-heritage-and-knowledge-economy2023.jpg
END:VEVENT
BEGIN:VEVENT
DTSTART;TZID=UTC:20230508T080000
DTEND;TZID=UTC:20230509T170000
DTSTAMP:20260425T230248
CREATED:20230313T151146Z
LAST-MODIFIED:20230515T133358Z
UID:2258-1683532800-1683651600@siteng.univ-batna.dz
SUMMARY:الملتقى الدولي الافتراضي حول الفيلم السينمائي التاريخي بين التجربة المحلية والتوجهات الدولية
DESCRIPTION:يعتبر الفيلم السينمائي التاريخي من أهم الأعمال السمعية البصرية التي اعتمدت عليها أغلب الأمم لكتابة تاريخها والمحافظة على موروثها ورصيدها الحضاري. ذلك أن من لا يكتب تاريخه يندثر ولا نبالغ إن قلنا فعليا أن صانعي الأفلام أضحوا في يومنا هذا من أقوى المؤرخين وأكثرهم تأثيرا. إذ أصبح الكثير من الناس يفضلون الحصول على المعلومات التاريخية، أو ما نعتقد أنه تاريخ من الأفلام التي يشاهدونها عوضا عن اللجوء إلى الكتب والمصادر التاريخية بل وحتى الروايات المكتوبة كما هو الحال بالنسبة للأجيال السابقة إن هذه الأفلام تشكل اليوم مرجعًا أساسيًا للكثير من الأفراد وبخاصة الشباب تتفوق على المراجع المكتوبة والمقروءة أو حتى المسموعة. فالصور المرئية والمتحركة تعمل عملا حيويا من خلال إعادة إحياء الحدث على الشاشة أمام المشاهد الذي يشعر وكأنه\nجزء منه، بدلا من تخيله في حال قرأه أو سمعه من أحدهم ولكن نقل الحدث التاريخي عبر أفلام سينمائية أو دراما تلفزيونية يقتضي الحذر والدقة إذ يعد عملا صعبا جدا. \n  \n \n  \n 
URL:https://siteng.univ-batna.dz/event/%d8%a7%d9%84%d9%85%d9%84%d8%aa%d9%82%d9%89-%d8%a7%d9%84%d8%af%d9%88%d9%84%d9%8a-%d8%a7%d9%84%d8%a7%d9%81%d8%aa%d8%b1%d8%a7%d8%b6%d9%8a-%d8%ad%d9%88%d9%84-%d8%a7%d9%84%d9%81%d9%8a%d9%84%d9%85-%d8%a7/
CATEGORIES:conference
ATTACH;FMTTYPE=image/jpeg:https://siteng.univ-batna.dz/wp-content/uploads/2023/03/seminaire-filme-historique.jpg
END:VEVENT
BEGIN:VEVENT
DTSTART;TZID=UTC:20230507T000000
DTEND;TZID=UTC:20230511T000000
DTSTAMP:20260425T230248
CREATED:20230319T144859Z
LAST-MODIFIED:20230515T133419Z
UID:2329-1683417600-1683763200@siteng.univ-batna.dz
SUMMARY:المحفل العلمي الأول حول: النقل والإمداد والتنمية في الجزائر
DESCRIPTION:حظيت قضايا النقل و إدارة االمداد في الوقت الراهن باهتمام كبير على كافة املستويات الوطنية و الدولية، سواء من الجانب النظر ي واألكاديمي أو الجانب التطبيقي، خاصة بعد جائحة كوفيد 19 والحرب الروسية االكرانية. فمن جهة وباعتبار أن مشكلة األمن الغذائي واالعتماد على استيراد الغذاء من الخارج أحد املميزات الرئيسية القتصاديات الكثيرمن الدول خاصة النامية منها، وكذا املبادالت التجارية،والدليل علىذلك،ففي هذه الفترة تعطلت سالسل االمداد الدولية والنتيجةزيادةكبيرة في أسعار املنتوجات نظرا لزيادة تكاليف النقل، ما أثر كثيرا وبشكل مباشر على عملية التنمية االقتصادية.
URL:https://siteng.univ-batna.dz/event/%d8%a7%d9%84%d9%85%d8%ad%d9%81%d9%84-%d8%a7%d9%84%d8%b9%d9%84%d9%85%d9%8a-%d8%a7%d8%a3%d9%84%d9%88%d9%84-%d8%ad%d9%88%d9%84-%d8%a7%d9%84%d9%86%d9%82%d9%84-%d9%88%d8%a7%d8%a7%d9%84%d9%85%d8%af%d8%a7/
CATEGORIES:conference
ATTACH;FMTTYPE=image/jpeg:https://siteng.univ-batna.dz/wp-content/uploads/2023/03/mtl2023.jpg
END:VEVENT
END:VCALENDAR