BEGIN:VCALENDAR
VERSION:2.0
PRODID:-//University of Batna 1 - ECPv6.15.17//NONSGML v1.0//EN
CALSCALE:GREGORIAN
METHOD:PUBLISH
X-ORIGINAL-URL:https://siteng.univ-batna.dz
X-WR-CALDESC:Events for University of Batna 1
REFRESH-INTERVAL;VALUE=DURATION:PT1H
X-Robots-Tag:noindex
X-PUBLISHED-TTL:PT1H
BEGIN:VTIMEZONE
TZID:UTC
BEGIN:STANDARD
TZOFFSETFROM:+0000
TZOFFSETTO:+0000
TZNAME:UTC
DTSTART:20250101T000000
END:STANDARD
END:VTIMEZONE
BEGIN:VEVENT
DTSTART;VALUE=DATE:20260506
DTEND;VALUE=DATE:20260508
DTSTAMP:20260426T001918
CREATED:20251203T132621Z
LAST-MODIFIED:20251203T132918Z
UID:5464-1778025600-1778198399@siteng.univ-batna.dz
SUMMARY:3rd National Seminar on Phytochemistry\, Pharmacology and Phytotherapy (SNPPP-3)
DESCRIPTION:
URL:https://siteng.univ-batna.dz/event/3rd-national-seminar-on-phytochemistry-pharmacology-and-phytotherapy-snppp-3/
CATEGORIES:conference
ATTACH;FMTTYPE=image/jpeg:https://siteng.univ-batna.dz/wp-content/uploads/2025/12/3rd-National-Seminar-on-phytochemistry.jpg
END:VEVENT
END:VCALENDAR